BEGIN:VCALENDAR
VERSION:2.0
PRODID:spatie/icalendar-generator
DESCRIPTION:Events from Pocono Pickle Guy
X-WR-CALDESC:Events from Pocono Pickle Guy
REFRESH-INTERVAL;VALUE=DURATION:PT1440M
X-PUBLISHED-TTL:PT1440M
BEGIN:VTIMEZONE
TZID:America/New_York
BEGIN:STANDARD
DTSTART:20251102T020000Z
TZOFFSETFROM:-0400
TZOFFSETTO:-0500
END:STANDARD
BEGIN:DAYLIGHT
DTSTART:20260308T020000Z
TZOFFSETFROM:-0500
TZOFFSETTO:-0400
END:DAYLIGHT
END:VTIMEZONE
BEGIN:VTIMEZONE
TZID:UTC
BEGIN:STANDARD
DTSTART:20250727T165323Z
TZOFFSETFROM:+0000
TZOFFSETTO:+0000
END:STANDARD
END:VTIMEZONE
BEGIN:VEVENT
UID:355-321
DTSTAMP:20260423T165323Z
SUMMARY:Western Mass Home &amp;amp\; Garden Show
LOCATION:Eastern State Expo Center   West Springfield Massachusetts
ORGANIZER;CN=admin:MAILTO:poconopickleguy@gmail.com
DTSTART;TZID=America/New_York;VALUE=DATE:20260326
DTEND;TZID=America/New_York;VALUE=DATE:20260330
X-ALT-DESC;FMTTYPE=TEXT/HTML:
CATEGORIES:General
URL;VALUE=URI:https://poconopickleguy.com/mc-events/western-mass-home-garde
 n-show/
METHOD:PUBLISH
END:VEVENT
END:VCALENDAR