BEGIN:VCALENDAR
VERSION:2.0
PRODID:spatie/icalendar-generator
DESCRIPTION:Events from Pocono Pickle Guy
X-WR-CALDESC:Events from Pocono Pickle Guy
REFRESH-INTERVAL;VALUE=DURATION:PT1440M
X-PUBLISHED-TTL:PT1440M
BEGIN:VTIMEZONE
TZID:America/New_York
BEGIN:STANDARD
DTSTART:20251102T020000Z
TZOFFSETFROM:-0400
TZOFFSETTO:-0500
END:STANDARD
BEGIN:DAYLIGHT
DTSTART:20260308T020000Z
TZOFFSETFROM:-0500
TZOFFSETTO:-0400
END:DAYLIGHT
END:VTIMEZONE
BEGIN:VTIMEZONE
TZID:UTC
BEGIN:STANDARD
DTSTART:20250727T164336Z
TZOFFSETFROM:+0000
TZOFFSETTO:+0000
END:STANDARD
END:VTIMEZONE
BEGIN:VEVENT
UID:385-322
DTSTAMP:20260423T164336Z
SUMMARY:Blue Ridge Flea Market
LOCATION:
ORGANIZER;CN=admin:MAILTO:poconopickleguy@gmail.com
RRULE:FREQ=WEEKLY;UNTIL=20261031T000000Z
DTSTART;TZID=America/New_York:20260404T080000
DTEND;TZID=America/New_York:20260405T020000
X-ALT-DESC;FMTTYPE=TEXT/HTML:
CATEGORIES:General
URL;VALUE=URI:https://poconopickleguy.com/mc-events/blue-ridge-flea-market-
 36/?mc_id=385
METHOD:PUBLISH
END:VEVENT
END:VCALENDAR